BEGIN:VCALENDAR
VERSION:2.0
PRODID:-//Tristel - Asia - EN - ECPv6.15.18//NONSGML v1.0//EN
CALSCALE:GREGORIAN
METHOD:PUBLISH
X-WR-CALNAME:Tristel - Asia - EN
X-ORIGINAL-URL:https://tristel.com/asia-en
X-WR-CALDESC:Events for Tristel - Asia - EN
REFRESH-INTERVAL;VALUE=DURATION:PT1H
X-Robots-Tag:noindex
X-PUBLISHED-TTL:PT1H
BEGIN:VTIMEZONE
TZID:UTC
BEGIN:STANDARD
TZOFFSETFROM:+0000
TZOFFSETTO:+0000
TZNAME:UTC
DTSTART:20250101T000000
END:STANDARD
END:VTIMEZONE
BEGIN:VEVENT
DTSTART;TZID=UTC:20260702T080000
DTEND;TZID=UTC:20260704T170000
DTSTAMP:20260422T013208
CREATED:20260406T025237Z
LAST-MODIFIED:20260406T025237Z
UID:10242-1782979200-1783184400@tristel.com
SUMMARY:Singapore Sleep\, Allergy and Rhinology Conference (SARC) 2026
DESCRIPTION:You are warmly invited to join the 16th Singapore Sleep\, Allergy and Rhinology Conference (SARC) 2026\, taking place from 2nd to 4th July 2026 at One Farrer Hotel\, Singapore. This conference brings together healthcare professionals\, specialists\, and industry experts to explore the latest developments and best practices in sleep medicine\, allergy management\, and rhinology. It offers a valuable platform for knowledge sharing\, collaboration\, and discussions on advancements in patient care and clinical outcomes. \nTristel is delighted to be part of this conference! We invite you to visit our booth to discover our infection prevention solutions\, connect with our team\, and learn how we support patient safety and effective infection control practices. \nWe look forward to seeing you there. \n🔗 Follow us on LinkedIn for all our latest news and updates.
URL:https://tristel.com/asia-en/event/singapore-sleep-allergy-and-rhinology-conference-sarc-2026/
LOCATION:One Farrer Hotel\, 1 Farrer Park Station Road\,\, 217562\, Singapore
ATTACH;FMTTYPE=image/png:https://tristel.com/asia-en/wp-content/uploads/sites/10/2026/04/Blog-Cover-Photos-1.png
END:VEVENT
END:VCALENDAR