BEGIN:VCALENDAR
VERSION:2.0
PRODID:-//Tristel - Asia - EN - ECPv6.15.18//NONSGML v1.0//EN
CALSCALE:GREGORIAN
METHOD:PUBLISH
X-WR-CALNAME:Tristel - Asia - EN
X-ORIGINAL-URL:https://tristel.com/asia-en
X-WR-CALDESC:Events for Tristel - Asia - EN
REFRESH-INTERVAL;VALUE=DURATION:PT1H
X-Robots-Tag:noindex
X-PUBLISHED-TTL:PT1H
BEGIN:VTIMEZONE
TZID:UTC
BEGIN:STANDARD
TZOFFSETFROM:+0000
TZOFFSETTO:+0000
TZNAME:UTC
DTSTART:20250101T000000
END:STANDARD
END:VTIMEZONE
BEGIN:VEVENT
DTSTART;TZID=UTC:20260625T080000
DTEND;TZID=UTC:20260627T170000
DTSTAMP:20260421T184620
CREATED:20260406T024423Z
LAST-MODIFIED:20260406T024441Z
UID:10233-1782374400-1782579600@tristel.com
SUMMARY:Asia Pacific Nurses Conference (ASPAN) 2026
DESCRIPTION:The Singapore Nurses Association (SNA) will be hosting the 9th Asia Pacific Nurses Conference (ASPAN) 2026\, taking place from 25th to 27th June 2026 at Singapore Expo. ASPAN 2026\, themed “Empowering Nurses: Leading the Future of Healthcare”\, will bring together over 300 delegates from across the Asia Pacific region\, including nursing leaders\, educators\, researchers\, and healthcare professionals. This conference serves as a high-impact platform for strategic dialogue\, knowledge exchange\, cross-border collaboration\, and the advancement of nursing practice\, education\, leadership\, research\, and healthcare innovation. \nTristel will be participating in ASPAN 2026\, and we warmly invite you to visit our booth to discover our innovative infection prevention solutions and connect with our team\, while learning how our solutions make a difference in clinical settings. \nWe look forward to meeting you there. \n🔗 Follow us on LinkedIn for all our latest news and updates.
URL:https://tristel.com/asia-en/event/asia-pacific-nurses-conference-aspan-2026/
LOCATION:Singapore Expo
ATTACH;FMTTYPE=image/png:https://tristel.com/asia-en/wp-content/uploads/sites/10/2026/04/Blog-Cover-Photos.png
END:VEVENT
END:VCALENDAR