BEGIN:VCALENDAR
VERSION:2.0
PRODID:-//Tristel - Asia - EN - ECPv6.15.18//NONSGML v1.0//EN
CALSCALE:GREGORIAN
METHOD:PUBLISH
X-WR-CALNAME:Tristel - Asia - EN
X-ORIGINAL-URL:https://tristel.com/asia-en
X-WR-CALDESC:Events for Tristel - Asia - EN
REFRESH-INTERVAL;VALUE=DURATION:PT1H
X-Robots-Tag:noindex
X-PUBLISHED-TTL:PT1H
BEGIN:VTIMEZONE
TZID:UTC
BEGIN:STANDARD
TZOFFSETFROM:+0000
TZOFFSETTO:+0000
TZNAME:UTC
DTSTART:20250101T000000
END:STANDARD
END:VTIMEZONE
BEGIN:VEVENT
DTSTART;TZID=UTC:20260523T150000
DTEND;TZID=UTC:20260523T170000
DTSTAMP:20260421T202254
CREATED:20260320T090235Z
LAST-MODIFIED:20260320T090235Z
UID:10197-1779548400-1779555600@tristel.com
SUMMARY:The Hong Kong International Nurses Day Celebration Symposium 2026
DESCRIPTION:𝗧𝗿𝗶𝘀𝘁𝗲𝗹 𝗮𝘁 𝘁𝗵𝗲 𝟮𝟬𝟮𝟲 𝗜𝗻𝘁𝗲𝗿𝗻𝗮𝘁𝗶𝗼𝗻𝗮𝗹 𝗡𝘂𝗿𝘀𝗲𝘀 𝗗𝗮𝘆 𝗡𝘂𝗿𝘀𝗶𝗻𝗴 𝗦𝘆𝗺𝗽𝗼𝘀𝗶𝘂𝗺! \n\nWe are excited to be part of the 2026 International Nurses Day Nursing Symposium\, an important annual gathering that brings together nursing professionals across Hong Kong to exchange insights\, celebrate the profession\, and advance excellence in patient care. \n📆 Date: 23 May 2026 (Saturday)\n🕒 Time: 15:00–17:00\n📍 Location: Salons 1–4\, 20/F\, Hopewell Hotel\, Wan Chai\, Hong Kong \nWe look forward to connecting with you there!
URL:https://tristel.com/asia-en/event/the-hong-kong-international-nurses-day-celebration-symposium-2026/
LOCATION:20/F\, Hopewell Hotel\, 15 Kennedy Road\, Wan Chai\, Hong Kong
ATTACH;FMTTYPE=image/jpeg:https://tristel.com/asia-en/wp-content/uploads/sites/10/2026/03/Blog-Cover-Photos.jpg
END:VEVENT
END:VCALENDAR